View In:
ArcGIS JavaScript
ArcGIS Online Map Viewer
ArcGIS Earth
ArcGIS Pro
Service Description: Whatcom County Assessor's Office GIS Tax Map Geometry.
Map Name: Assessor Tax Map
Legend
All Layers and Tables
Dynamic Legend
Dynamic All Layers
Layers:
Description: Whatcom County Assessor's Office GIS Tax Map Geometry.
Service Item Id: 9e65222dd058447caa943c43ce1a574f
Copyright Text: Whatcom County Assessor
Spatial Reference:
102100
(3857)
LatestVCSWkid(0)
Single Fused Map Cache: true
Tile Info:
- Height: 256
- Width: 256
- DPI: 96
-
Levels of Detail: 24
-
Level ID: 1
[ Start Tile, End Tile ]
- Resolution: 78271.5169639999
- Scale: 2.95828763795777E8
-
Level ID: 2
[ Start Tile, End Tile ]
- Resolution: 39135.7584820001
- Scale: 1.47914381897889E8
-
Level ID: 3
[ Start Tile, End Tile ]
- Resolution: 19567.8792409999
- Scale: 7.3957190948944E7
-
Level ID: 4
[ Start Tile, End Tile ]
- Resolution: 9783.93962049996
- Scale: 3.6978595474472E7
-
Level ID: 5
[ Start Tile, End Tile ]
- Resolution: 4891.96981024998
- Scale: 1.8489297737236E7
- Format: PNG32
- Compression Quality: 0.0
- Origin: X: -2.0037508342787E7
Y: 2.0037508342787E7
- Spatial Reference: 102100
(3857)
LatestVCSWkid(0)
Storage Info:
- Storage Format: esriMapCacheStorageModeCompactV2
- Packet Size: 128
Initial Extent:
XMin: -1.3718278705085332E7
YMin: 6168234.826588652
XMax: -1.341407263391467E7
YMax: 6321087.138211348
Spatial Reference: 102100
(0)
LatestVCSWkid(0)
Full Extent:
XMin: -1.37045363014E7
YMin: 6214047.2007
XMax: -1.34278150376E7
YMax: 6275274.764300004
Spatial Reference: 102100
(0)
LatestVCSWkid(0)
Units: esriMeters
Supported Image Format Types: PNG32,PNG24,PNG,JPG,DIB,TIFF,EMF,PS,PDF,GIF,SVG,SVGZ,BMP
Document Info:
Title: Assessor Tax Map
Author:
Comments: Whatcom County Assessor's Office GIS Tax Map Geometry.
Subject: Whatcom County Assessor's Office GIS Tax Map Geometry.
Category:
Keywords: Whatcom,Assessor Map,Property
AntialiasingMode: Fast
TextAntialiasingMode: Force
Supports Dynamic Layers: true
Resampling: true
MaxRecordCount: 10000
MaxImageHeight: 4096
MaxImageWidth: 4096
Supported Query Formats: JSON, geoJSON, PBF
Supports Query Data Elements: true
Min Scale: 577790.554289
Max Scale: 564.248588
Min LOD: 7
Max LOD: 20
Supports Datum Transformation: true
Child Resources:
Info
Dynamic Layer
Supported Operations:
Export Map
QueryLegends
Return Updates