View In:
ArcGIS JavaScript
ArcGIS Online Map Viewer
ArcGIS Earth
ArcGIS Pro
Service Description: Whatcom 2024 Aerial Imagery. Imagery was captured between March and June. (Published 2/26/25 @5:00pm)
Map Name: 2024_WhatcomAerialImagery_Web
Legend
All Layers and Tables
Dynamic Legend
Dynamic All Layers
Layers:
Description: Whatcom 2024 Aerial Imagery. Imagery was captured between March and June. (Published 2/26/25 @5:00pm)
Service Item Id: adec229dcb0b4a889a9c855e96d5b066
Copyright Text: Whatcom, Pictometry
Spatial Reference:
102100
(3857)
LatestVCSWkid(0)
Single Fused Map Cache: true
Tile Info:
- Height: 256
- Width: 256
- DPI: 96
-
Levels of Detail: 24
-
Level ID: 1
[ Start Tile, End Tile ]
- Resolution: 78271.5169639999
- Scale: 2.95828763795777E8
-
Level ID: 2
[ Start Tile, End Tile ]
- Resolution: 39135.7584820001
- Scale: 1.47914381897889E8
-
Level ID: 3
[ Start Tile, End Tile ]
- Resolution: 19567.8792409999
- Scale: 7.3957190948944E7
-
Level ID: 4
[ Start Tile, End Tile ]
- Resolution: 9783.93962049996
- Scale: 3.6978595474472E7
-
Level ID: 5
[ Start Tile, End Tile ]
- Resolution: 4891.96981024998
- Scale: 1.8489297737236E7
- Format: Mixed
- Compression Quality: 75.0
- Origin: X: -2.0037508342787E7
Y: 2.0037508342787E7
- Spatial Reference: 102100
(3857)
LatestVCSWkid(0)
Storage Info:
- Storage Format: esriMapCacheStorageModeCompactV2
- Packet Size: 128
Initial Extent:
XMin: -1.3703485234932492E7
YMin: 6203456.193114596
XMax: -1.3565650510881366E7
YMax: 6285211.098399741
Spatial Reference: 102100
(0)
LatestVCSWkid(0)
Full Extent:
XMin: -1.3702715739489496E7
YMin: 6210704.894305
XMax: -1.3567145378496662E7
YMax: 6279637.529048403
Spatial Reference: 102100
(0)
LatestVCSWkid(0)
Units: esriMeters
Supported Image Format Types: PNG32,PNG24,PNG,JPG,DIB,TIFF,EMF,PS,PDF,GIF,SVG,SVGZ,BMP
Document Info:
Title: Whatcom 2024 Aerial Imagery
Author:
Comments: Whatcom 2024 Aerial Imagery. Imagery was captured between March and June. (Published 2/26/25 @5:00pm)
Subject: Whatcom 2024 Aerial Imagery
Category:
Keywords: Whatcom,Aerial,Imagery
AntialiasingMode: Fast
TextAntialiasingMode: Force
Supports Dynamic Layers: true
Resampling: false
MaxRecordCount: 2000
MaxImageHeight: 4096
MaxImageWidth: 4096
Supported Query Formats: JSON, geoJSON, PBF
Supports Query Data Elements: true
Min Scale: 2311162.217155
Max Scale: 282.124294
Min LOD: 8
Max LOD: 21
Supports Datum Transformation: true
Child Resources:
Info
Dynamic Layer
Supported Operations:
Export Map
QueryLegends
Return Updates