View In:
ArcGIS JavaScript
ArcGIS Online Map Viewer
ArcGIS Earth
ArcGIS Pro
Service Description: Whatcom 2019 Aerial Imagery. Imagery was captured between February and June. (Published 3/13/25 @11:20am)
Map Name: 2019_WhatcomAerialImagery_Web
Legend
All Layers and Tables
Dynamic Legend
Dynamic All Layers
Layers:
Description: Whatcom 2019 Aerial Imagery. Imagery was captured between February and June. (Published 3/13/25 @11:20am)
Service Item Id: 681473ad10934e8eb4358d2364352894
Copyright Text: Whatcom County, Pictometry
Spatial Reference:
102100
(3857)
LatestVCSWkid(0)
Single Fused Map Cache: true
Tile Info:
- Height: 256
- Width: 256
- DPI: 96
-
Levels of Detail: 24
-
Level ID: 1
[ Start Tile, End Tile ]
- Resolution: 78271.5169639999
- Scale: 2.95828763795777E8
-
Level ID: 2
[ Start Tile, End Tile ]
- Resolution: 39135.7584820001
- Scale: 1.47914381897889E8
-
Level ID: 3
[ Start Tile, End Tile ]
- Resolution: 19567.8792409999
- Scale: 7.3957190948944E7
-
Level ID: 4
[ Start Tile, End Tile ]
- Resolution: 9783.93962049996
- Scale: 3.6978595474472E7
-
Level ID: 5
[ Start Tile, End Tile ]
- Resolution: 4891.96981024998
- Scale: 1.8489297737236E7
- Format: Mixed
- Compression Quality: 75.0
- Origin: X: -2.0037508342787E7
Y: 2.0037508342787E7
- Spatial Reference: 102100
(3857)
LatestVCSWkid(0)
Storage Info:
- Storage Format: esriMapCacheStorageModeCompactV2
- Packet Size: 128
Initial Extent:
XMin: -1.370794374472622E7
YMin: 6182179.333709758
XMax: -1.356271366259939E7
YMax: 6308055.106294636
Spatial Reference: 102100
(0)
LatestVCSWkid(0)
Full Extent:
XMin: -1.3703048482855659E7
YMin: 6210846.557148433
XMax: -1.356690710612612E7
YMax: 6281250.479575159
Spatial Reference: 102100
(0)
LatestVCSWkid(0)
Units: esriMeters
Supported Image Format Types: PNG32,PNG24,PNG,JPG,DIB,TIFF,EMF,PS,PDF,GIF,SVG,SVGZ,BMP
Document Info:
Title: Whatcom County 2019 Aerial Web
Author:
Comments: Whatcom 2019 Aerial Imagery. Imagery was captured between February and June. (Published 3/13/25 @11:20am)
Subject: Whatcom County 2019 Imagery
Category:
Keywords: Whatcom,Aerial,Imagery
AntialiasingMode: Fast
TextAntialiasingMode: Force
Supports Dynamic Layers: true
Resampling: false
MaxRecordCount: 2000
MaxImageHeight: 4096
MaxImageWidth: 4096
Supported Query Formats: JSON, geoJSON, PBF
Supports Query Data Elements: true
Min Scale: 1155581.108577
Max Scale: 282.124294
Min LOD: 9
Max LOD: 21
Supports Datum Transformation: true
Child Resources:
Info
Dynamic Layer
Supported Operations:
Export Map
QueryLegends
Return Updates