View In:
ArcGIS JavaScript
ArcGIS Online Map Viewer
ArcGIS Earth
ArcGIS Pro
Service Description: Whatcom 2013 Aerial Imagery. Imagery was captured between February and June. (Published 4/8/25 @4:15pm)
Map Name: 2013_WhatcomAerialImagery_Web
Legend
All Layers and Tables
Dynamic Legend
Dynamic All Layers
Layers:
Description: Whatcom 2013 Aerial Imagery. Imagery was captured between February and June. (Published 4/8/25 @4:15pm)
Service Item Id: 0d55ab45184e4841aab0d8e619b20c30
Copyright Text: Whatcom County, Pictometry
Spatial Reference:
102100
(3857)
LatestVCSWkid(0)
Single Fused Map Cache: true
Tile Info:
- Height: 256
- Width: 256
- DPI: 96
-
Levels of Detail: 24
-
Level ID: 1
[ Start Tile, End Tile ]
- Resolution: 78271.5169639999
- Scale: 2.95828763795777E8
-
Level ID: 2
[ Start Tile, End Tile ]
- Resolution: 39135.7584820001
- Scale: 1.47914381897889E8
-
Level ID: 3
[ Start Tile, End Tile ]
- Resolution: 19567.8792409999
- Scale: 7.3957190948944E7
-
Level ID: 4
[ Start Tile, End Tile ]
- Resolution: 9783.93962049996
- Scale: 3.6978595474472E7
-
Level ID: 5
[ Start Tile, End Tile ]
- Resolution: 4891.96981024998
- Scale: 1.8489297737236E7
- Format: Mixed
- Compression Quality: 75.0
- Origin: X: -2.0037508342787E7
Y: 2.0037508342787E7
- Spatial Reference: 102100
(3857)
LatestVCSWkid(0)
Storage Info:
- Storage Format: esriMapCacheStorageModeCompactV2
- Packet Size: 128
Initial Extent:
XMin: -1.370986092482423E7
YMin: 6174704.970451186
XMax: -1.3558289250386544E7
YMax: 6306077.213325535
Spatial Reference: 102100
(0)
LatestVCSWkid(0)
Full Extent:
XMin: -1.3702971303258881E7
YMin: 6199580.610470007
XMax: -1.3565178871951891E7
YMax: 6281201.573306715
Spatial Reference: 102100
(0)
LatestVCSWkid(0)
Units: esriMeters
Supported Image Format Types: PNG32,PNG24,PNG,JPG,DIB,TIFF,EMF,PS,PDF,GIF,SVG,SVGZ,BMP
Document Info:
Title: Whatcom County 2013 Aerial Web
Author:
Comments: Whatcom 2013 Aerial Imagery. Imagery was captured between February and June. (Published 4/8/25 @4:15pm)
Subject: Whatcom County 2013 Imagery
Category:
Keywords: Whatcom,Aerial,Imagery
AntialiasingMode: Fast
TextAntialiasingMode: Force
Supports Dynamic Layers: true
Resampling: false
MaxRecordCount: 2000
MaxImageHeight: 4096
MaxImageWidth: 4096
Supported Query Formats: JSON, geoJSON, PBF
Supports Query Data Elements: true
Min Scale: 1155581.108577
Max Scale: 282.124294
Supports Datum Transformation: true
Child Resources:
Info
Dynamic Layer
Supported Operations:
Export Map
QueryLegends
Return Updates